BEGIN:VCALENDAR
VERSION:2.0
PRODID:-//Kulvio Event Calendar//kulvio.de//
CALSCALE:GREGORIAN
METHOD:PUBLISH
BEGIN:VEVENT
SUMMARY:Alko-Pop und Klingeltöne - Die Jahrtausend-Show
DTSTART:20260509T180000Z
DTEND:20260509T190000Z
DTSTAMP:20260419T232218Z
UID:kulvio-event-2402@kulvio.de
CATEGORIES:Kabarett,Comedy
CREATED:20260418T193252Z
DESCRIPTION:Das Deutsche Äppelwoi-Theater Bad Homburg präsentiert seine 
 aktuelle Samstagsshow mit Humor\, Sketchen und musikalischen Einlagen rund
  um die Jahrtausendwende. Die Zuschauer erwartet eine unterhaltsame Mischu
 ng aus Gags\, Tiefschürfendem und Klamauk im hessischen Mundart-Theater. 
 Das gemütliche Theater im Kurhaus bietet dazu regionale Speisen und den n
 amensgebenden Äppelwoi.
GEO:50.227392;8.617012
LAST-MODIFIED:20260418T193515Z
LOCATION:Deutsches Äppelwoi-Theater\, Louisenstraße 58\, 61348\, Bad Hom
 burg vor der Höhe
STATUS:CONFIRMED
URL:https://kulvio.de/event/2402
END:VEVENT
END:VCALENDAR
