BEGIN:VCALENDAR
VERSION:2.0
PRODID:-//Kulvio Event Calendar//kulvio.de//
CALSCALE:GREGORIAN
METHOD:PUBLISH
BEGIN:VEVENT
SUMMARY:Bad Homburg Flohmarkt
DTSTART:20260509T050000Z
DTEND:20260509T120000Z
DTSTAMP:20260419T232631Z
UID:kulvio-event-2403@kulvio.de
CATEGORIES:Flohmarkt
CREATED:20260418T193252Z
DESCRIPTION:Der traditionelle Bad Homburg Flohmarkt findet auf dem Festpla
 tz Am Heuchelbach statt. Gehandelt wird ausschließlich mit gebrauchten Wa
 ren\, Neuware ist nicht zugelassen. Der Markt öffnet um 7 Uhr für Besuch
 er\, Händler können ab 6 Uhr ihre Stände herrichten. Eine Voranmeldung 
 ist möglich\, aber nicht erforderlich. Standgebühren betragen 20 Euro f
 ür drei Meter ohne Auto\, 25 Euro mit Auto am Stand.
GEO:50.232639;8.607579
LAST-MODIFIED:20260418T193515Z
LOCATION:Festplatz Am Heuchelbach\, 61348\, Bad Homburg vor der Höhe
STATUS:CONFIRMED
URL:https://kulvio.de/event/2403
END:VEVENT
END:VCALENDAR
