BEGIN:VCALENDAR
VERSION:2.0
PRODID:-//Kulvio Event Calendar//kulvio.de//
CALSCALE:GREGORIAN
METHOD:PUBLISH
BEGIN:VEVENT
SUMMARY:Barocknacht im Schloss Bad Homburg
DTSTART:20260509T160000Z
DTEND:20260509T170000Z
DTSTAMP:20260419T233815Z
UID:kulvio-event-2404@kulvio.de
CATEGORIES:Konzert
CREATED:20260418T193252Z
DESCRIPTION:Zum Abschluss des 25-jährigen Jubiläums der Bad Homburger Sc
 hlosskonzerte findet eine festliche Barocknacht im Schloss Bad Homburg sta
 tt. Das Programm umfasst Barockmusik des Ensembles Unda Maris\, einen Sekt
 empfang ab 18 Uhr\, exklusive Schlossführungen und ein Dinnerbuffet. Mitw
 irkende sind Judith von der Goltz und Francisca Hajdu an der Violine\, Cha
 rlotte Schwenke an der Viola da Gamba und Johannes Rake am Cembalo. Karten
  sind nur im Vorverkauf bis zum 24. April erhältlich.
GEO:50.227835;8.610778
LAST-MODIFIED:20260418T193515Z
LOCATION:Schloss Bad Homburg\, Schloss 1\, 61348\, Bad Homburg vor der Hö
 he
STATUS:CONFIRMED
URL:https://kulvio.de/event/2404
END:VEVENT
END:VCALENDAR
