BEGIN:VCALENDAR
VERSION:2.0
PRODID:-//Kulvio Event Calendar//kulvio.de//
CALSCALE:GREGORIAN
METHOD:PUBLISH
BEGIN:VEVENT
SUMMARY:After Work Beatz auf dem Kurhausplatz
DTSTART:20260513T150000Z
DTEND:20260513T160000Z
DTSTAMP:20260419T235653Z
UID:kulvio-event-2405@kulvio.de
CATEGORIES:Afterwork,Party,Tanz
CREATED:20260418T193252Z
DESCRIPTION:Die Veranstaltungsreihe After Work Beatz lädt auf den Kurhaus
 platz in Bad Homburg ein. Bei Drinks und cooler Musik lässt sich der Feie
 rabend im Freien genießen und das Wochenende einläuten. Die Veranstaltun
 g richtet sich an alle\, die nach der Arbeit in entspannter Atmosphäre zu
 sammenkommen und den Abend unter freiem Himmel ausklingen lassen möchten.
GEO:50.226412;8.617049
LAST-MODIFIED:20260418T193515Z
LOCATION:Kurhausplatz\, Louisenstraße 69\, 61348\, Bad Homburg vor der H
 öhe
STATUS:CONFIRMED
URL:https://kulvio.de/event/2405
END:VEVENT
END:VCALENDAR
