BEGIN:VCALENDAR
VERSION:2.0
PRODID:-//Kulvio Event Calendar//kulvio.de//
CALSCALE:GREGORIAN
METHOD:PUBLISH
BEGIN:VEVENT
SUMMARY:Weinfest Bad Homburg - Donnerstag
DTSTART:20260514T100000Z
DTEND:20260514T200000Z
DTSTAMP:20260419T232541Z
UID:kulvio-event-2406@kulvio.de
CATEGORIES:Tasting,Stadtfest
CREATED:20260418T193252Z
DESCRIPTION:Das Weinfest Bad Homburg startet am Donnerstag mit einem viert
 ägigen Programm in der Innenstadt. Winzer aus verschiedenen Regionen prä
 sentieren ihre Weine\, begleitet von Live-Musik und kulinarischen Angebote
 n. Der erste Tag des Weinfestes bietet eine entspannte Atmosphäre zum Ein
 stieg in das Festwochenende. Der Markt ist von 12 bis 22 Uhr geöffnet.
GEO:50.226314;8.611331
LAST-MODIFIED:20260418T193515Z
LOCATION:Innenstadt Bad Homburg\, 61348\, Bad Homburg vor der Höhe
STATUS:CONFIRMED
URL:https://kulvio.de/event/2406
END:VEVENT
END:VCALENDAR
