BEGIN:VCALENDAR
VERSION:2.0
PRODID:-//Kulvio Event Calendar//kulvio.de//
CALSCALE:GREGORIAN
METHOD:PUBLISH
BEGIN:VEVENT
SUMMARY:Weinfest Bad Homburg - Freitag
DTSTART:20260515T100000Z
DTEND:20260515T215900Z
DTSTAMP:20260419T232629Z
UID:kulvio-event-2407@kulvio.de
CATEGORIES:Tasting,Stadtfest
CREATED:20260418T193252Z
DESCRIPTION:Am Freitag geht das Weinfest Bad Homburg mit erweitertem Progr
 amm weiter. Winzer aus verschiedenen Anbaugebieten schenken ihre Weine aus
 \, dazu gibt es Live-Musik und ein kulinarisches Angebot in der Innenstadt
 . Der Freitag bietet Öffnungszeiten von 12 bis 24 Uhr und lädt zum Verwe
 ilen bei regionalen Weinen und geselliger Atmosphäre ein.
GEO:50.226314;8.611331
LAST-MODIFIED:20260418T193515Z
LOCATION:Innenstadt Bad Homburg\, 61348\, Bad Homburg vor der Höhe
STATUS:CONFIRMED
URL:https://kulvio.de/event/2407
END:VEVENT
END:VCALENDAR
