BEGIN:VCALENDAR
VERSION:2.0
PRODID:-//Kulvio Event Calendar//kulvio.de//
CALSCALE:GREGORIAN
METHOD:PUBLISH
BEGIN:VEVENT
SUMMARY:Lesung mit Eva Szepesi - Ich will leben
DTSTART:20260515T170000Z
DTEND:20260515T180000Z
DTSTAMP:20260419T232550Z
UID:kulvio-event-2408@kulvio.de
CATEGORIES:Lesung
CREATED:20260418T193252Z
DESCRIPTION:Die 93-jährige Holocaust-Überlebende Eva Szepesi liest in de
 r Arthouse Zehntscheune in Bad Homburg aus ihrem Buch und berichtet von ih
 rer Kindheit in Ungarn\, ihrer Flucht 1944 und der Deportation nach Auschw
 itz im Alter von zwölf Jahren. Im Anschluss an die Lesung signiert die Au
 torin ihre Bücher. Einlass ist ab 18:30 Uhr. Die Veranstaltung bietet ein
 e seltene Gelegenheit\, die Erinnerungen einer Zeitzeugin aus erster Hand 
 zu erleben.
GEO:50.226352;8.680101
LAST-MODIFIED:20260418T193515Z
LOCATION:Arthouse Zehntscheune\, Bornstraße 18\, 61352\, Bad Homburg vor 
 der Höhe
STATUS:CONFIRMED
URL:https://kulvio.de/event/2408
END:VEVENT
END:VCALENDAR
