BEGIN:VCALENDAR
VERSION:2.0
PRODID:-//Kulvio Event Calendar//kulvio.de//
CALSCALE:GREGORIAN
METHOD:PUBLISH
BEGIN:VEVENT
SUMMARY:Weinfest Bad Homburg - Samstag
DTSTART:20260516T100000Z
DTEND:20260516T215900Z
DTSTAMP:20260419T232525Z
UID:kulvio-event-2409@kulvio.de
CATEGORIES:Tasting,Stadtfest
CREATED:20260418T193252Z
DESCRIPTION:Am Samstag erreicht das Weinfest Bad Homburg seinen Höhepunkt
  mit dem vollen Programm aus Live-Musik\, Weinproben und kulinarischen Ang
 eboten in der Innenstadt. Winzer verschiedener Anbaugebiete präsentieren 
 ihre Weine an zahlreichen Ständen. Das Weinfest ist von 12 bis 24 Uhr ge
 öffnet und bietet die Gelegenheit\, bei guter Musik und regionalen Weinen
  den Samstagabend zu genießen.
GEO:50.226314;8.611331
LAST-MODIFIED:20260418T193515Z
LOCATION:Innenstadt Bad Homburg\, 61348\, Bad Homburg vor der Höhe
STATUS:CONFIRMED
URL:https://kulvio.de/event/2409
END:VEVENT
END:VCALENDAR
