BEGIN:VCALENDAR
VERSION:2.0
PRODID:-//Kulvio Event Calendar//kulvio.de//
CALSCALE:GREGORIAN
METHOD:PUBLISH
BEGIN:VEVENT
SUMMARY:Weinfest Bad Homburg - Sonntag mit verkaufsoffenem Sonntag
DTSTART:20260517T100000Z
DTEND:20260517T180000Z
DTSTAMP:20260419T235652Z
UID:kulvio-event-2410@kulvio.de
CATEGORIES:Tasting,Stadtfest
CREATED:20260418T193252Z
DESCRIPTION:Der letzte Tag des Weinfests Bad Homburg verbindet den Weinmar
 kt mit einem verkaufsoffenen Sonntag in der Innenstadt. Von 12 bis 20 Uhr 
 können Besucher regionale Weine genießen\, dazu bieten die Geschäfte de
 r Innenstadt von 13 bis 18 Uhr zum Bummeln und Einkaufen ein. Ein stimmung
 svoller Abschluss eines viertägigen Weinfestes mit Gastronomie und Live-M
 usik.
GEO:50.226314;8.611331
LAST-MODIFIED:20260418T193515Z
LOCATION:Innenstadt Bad Homburg\, 61348\, Bad Homburg vor der Höhe
STATUS:CONFIRMED
URL:https://kulvio.de/event/2410
END:VEVENT
END:VCALENDAR
