BEGIN:VCALENDAR
VERSION:2.0
PRODID:-//Kulvio Event Calendar//kulvio.de//
CALSCALE:GREGORIAN
METHOD:PUBLISH
BEGIN:VEVENT
SUMMARY:Ramba Zamba - Die Dschungel-Show
DTSTART:20260522T180000Z
DTEND:20260522T190000Z
DTSTAMP:20260419T233436Z
UID:kulvio-event-2411@kulvio.de
CATEGORIES:Kabarett,Comedy
CREATED:20260418T193252Z
DESCRIPTION:Das Deutsche Äppelwoi-Theater Bad Homburg zeigt seine beliebt
 e Freitagsshow mit Katrin Dezius und Lukas Huber. Die Dschungel-Show biete
 t Sketche\, Musik und hessischen Mundart-Humor in gemütlicher Atmosphäre
 . Im Theater im Kurhaus gibt es dazu regionale Küche und Äppelwoi. Ein v
 ergnüglicher Freitagabend für Freunde des hessischen Humors.
GEO:50.227392;8.617012
LAST-MODIFIED:20260418T193515Z
LOCATION:Deutsches Äppelwoi-Theater\, Louisenstraße 58\, 61348\, Bad Hom
 burg vor der Höhe
STATUS:CONFIRMED
URL:https://kulvio.de/event/2411
END:VEVENT
END:VCALENDAR
