BEGIN:VCALENDAR
VERSION:2.0
PRODID:-//Kulvio Event Calendar//kulvio.de//
CALSCALE:GREGORIAN
METHOD:PUBLISH
BEGIN:VEVENT
SUMMARY:Alko-Pop und Klingeltöne - Die Jahrtausend-Show
DTSTART:20260523T180000Z
DTEND:20260523T190000Z
DTSTAMP:20260419T233424Z
UID:kulvio-event-2412@kulvio.de
CATEGORIES:Kabarett,Comedy
CREATED:20260418T193252Z
DESCRIPTION:Das Deutsche Äppelwoi-Theater Bad Homburg lädt zur Samstagsv
 orstellung seiner aktuellen Show ein. Eine Mischung aus Gags\, Sketchen un
 d musikalischen Einlagen im hessischen Mundart-Stil sorgt für einen unter
 haltsamen Abend. Das gemütliche Theater im Kurhaus bietet dazu die typisc
 he Äppelwoi-Theater-Atmosphäre mit regionalen Speisen und Getränken.
GEO:50.227392;8.617012
LAST-MODIFIED:20260418T193515Z
LOCATION:Deutsches Äppelwoi-Theater\, Louisenstraße 58\, 61348\, Bad Hom
 burg vor der Höhe
STATUS:CONFIRMED
URL:https://kulvio.de/event/2412
END:VEVENT
END:VCALENDAR
