BEGIN:VCALENDAR
VERSION:2.0
PRODID:-//Kulvio Event Calendar//kulvio.de//
CALSCALE:GREGORIAN
METHOD:PUBLISH
BEGIN:VEVENT
SUMMARY:Glenn Miller Orchestra im Kurtheater
DTSTART:20260527T180000Z
DTEND:20260527T190000Z
DTSTAMP:20260419T232048Z
UID:kulvio-event-2413@kulvio.de
CATEGORIES:Konzert
CREATED:20260418T193252Z
DESCRIPTION:Das Glenn Miller Orchestra unter der Leitung von Uli Plettendo
 rff gastiert im Kurtheater Bad Homburg. Das Orchester spielt die legendär
 en Hits der Swing-Ära und führt das musikalische Erbe Glenn Millers fort
 . Der Abend bietet die Gelegenheit\, Klassiker wie In the Mood\, Moonlight
  Serenade und Chattanooga Choo Choo im historischen Ambiente des Kurtheate
 rs live zu erleben.
GEO:50.227392;8.617012
LAST-MODIFIED:20260418T193515Z
LOCATION:Deutsches Äppelwoi-Theater\, Louisenstraße 58\, 61348\, Bad Hom
 burg vor der Höhe
STATUS:CONFIRMED
URL:https://kulvio.de/event/2413
END:VEVENT
END:VCALENDAR
