BEGIN:VCALENDAR
VERSION:2.0
PRODID:-//Kulvio Event Calendar//kulvio.de//
CALSCALE:GREGORIAN
METHOD:PUBLISH
BEGIN:VEVENT
SUMMARY:Sabin Tambrea liest Thomas Mann - Der Tod in Venedig
DTSTART:20260529T180000Z
DTEND:20260529T190000Z
DTSTAMP:20260419T233436Z
UID:kulvio-event-2414@kulvio.de
CATEGORIES:Lesung
CREATED:20260418T193252Z
DESCRIPTION:Zum Auftakt des 17. Bad Homburger Poesie- und Literaturfestiva
 ls liest Schauspieler Sabin Tambrea aus Thomas Manns Novelle Der Tod in Ve
 nedig im Kurtheater Bad Homburg. Die Lesung wird musikalisch von Mitgliede
 rn des hr-Sinfonieorchesters begleitet. Das Festival verwandelt die Kursta
 dt zwischen dem 29. Mai und dem 14. Juni 2026 in ein literarisches Zentrum
  mit prominenten Lesungen.
GEO:50.227392;8.617012
LAST-MODIFIED:20260418T193515Z
LOCATION:Deutsches Äppelwoi-Theater\, Louisenstraße 58\, 61348\, Bad Hom
 burg vor der Höhe
STATUS:CONFIRMED
URL:https://kulvio.de/event/2414
END:VEVENT
END:VCALENDAR
