BEGIN:VCALENDAR
VERSION:2.0
PRODID:-//Kulvio Event Calendar//kulvio.de//
CALSCALE:GREGORIAN
METHOD:PUBLISH
BEGIN:VEVENT
SUMMARY:Ramba Zamba - Die Dschungel-Show
DTSTART:20260529T180000Z
DTEND:20260529T190000Z
DTSTAMP:20260419T232522Z
UID:kulvio-event-2415@kulvio.de
CATEGORIES:Kabarett,Comedy
CREATED:20260418T193252Z
DESCRIPTION:Das Deutsche Äppelwoi-Theater Bad Homburg spielt erneut seine
  beliebte Freitagsshow. Katrin Dezius und Lukas Huber führen durch einen 
 Abend mit Sketchen\, Musik und hessischem Humor im Dschungel-Thema. Das Th
 eater bietet ein geselliges Erlebnis mit regionaler Küche und Äppelwoi i
 m Kurhaus-Ambiente.
GEO:50.227392;8.617012
LAST-MODIFIED:20260418T193515Z
LOCATION:Deutsches Äppelwoi-Theater\, Louisenstraße 58\, 61348\, Bad Hom
 burg vor der Höhe
STATUS:CONFIRMED
URL:https://kulvio.de/event/2415
END:VEVENT
END:VCALENDAR
