BEGIN:VCALENDAR
VERSION:2.0
PRODID:-//Kulvio Event Calendar//kulvio.de//
CALSCALE:GREGORIAN
METHOD:PUBLISH
BEGIN:VEVENT
SUMMARY:Kenneth Hujer - Lesung und Musik in der Zehntscheune
DTSTART:20260530T170000Z
DTEND:20260530T180000Z
DTSTAMP:20260419T235656Z
UID:kulvio-event-2416@kulvio.de
CATEGORIES:Lesung
CREATED:20260418T193252Z
DESCRIPTION:Autor Kenneth Hujer stellt sein Interviewbuch All das passiert
 e in diesem irrsinnigen Milieu Frankfurt in der Arthouse Zehntscheune vor.
  Das Buch beleuchtet gesellschaftliche und kulturelle Umbrüche der 1960er
  bis 1980er Jahre anhand von Gesprächen mit Künstlern\, Politikern und K
 ulturschaffenden. Einlass ist ab 18:30 Uhr. Die Lesung wird von musikalisc
 hen Beiträgen begleitet.
GEO:50.226352;8.680101
LAST-MODIFIED:20260418T193515Z
LOCATION:Arthouse Zehntscheune\, Bornstraße 18\, 61352\, Bad Homburg vor 
 der Höhe
STATUS:CONFIRMED
URL:https://kulvio.de/event/2416
END:VEVENT
END:VCALENDAR
