BEGIN:VCALENDAR
VERSION:2.0
PRODID:-//Kulvio Event Calendar//kulvio.de//
CALSCALE:GREGORIAN
METHOD:PUBLISH
BEGIN:VEVENT
SUMMARY:Bettina Zimmermann und Pasquale Aleardi lesen Alexandre Dumas
DTSTART:20260530T180000Z
DTEND:20260530T190000Z
DTSTAMP:20260419T233421Z
UID:kulvio-event-2417@kulvio.de
CATEGORIES:Lesung
CREATED:20260418T193252Z
DESCRIPTION:Im Rahmen des Bad Homburger Poesie- und Literaturfestivals les
 en die Schauspieler Bettina Zimmermann und Pasquale Aleardi aus Alexandre 
 Dumas' Die Kameliendame im Kurtheater Bad Homburg. Die Veranstaltung biete
 t eine szenische Lesung des Klassikers mit zwei bekannten Stimmen aus Film
  und Fernsehen. Das Literaturfestival bringt prominente Interpreten und gr
 oße Werke der Weltliteratur in die Kurstadt.
GEO:50.227392;8.617012
LAST-MODIFIED:20260418T193515Z
LOCATION:Deutsches Äppelwoi-Theater\, Louisenstraße 58\, 61348\, Bad Hom
 burg vor der Höhe
STATUS:CONFIRMED
URL:https://kulvio.de/event/2417
END:VEVENT
END:VCALENDAR
