BEGIN:VCALENDAR
VERSION:2.0
PRODID:-//Kulvio Event Calendar//kulvio.de//
CALSCALE:GREGORIAN
METHOD:PUBLISH
BEGIN:VEVENT
SUMMARY:Alko-Pop und Klingeltöne - Die Jahrtausend-Show
DTSTART:20260530T180000Z
DTEND:20260530T190000Z
DTSTAMP:20260419T233435Z
UID:kulvio-event-2418@kulvio.de
CATEGORIES:Kabarett,Comedy
CREATED:20260418T193252Z
DESCRIPTION:Das Deutsche Äppelwoi-Theater Bad Homburg zeigt seine aktuell
 e Samstagsshow rund um die Jahrtausendwende. Ein unterhaltsamer Abend mit 
 Gags\, Sketchen und musikalischen Einlagen im hessischen Mundart-Stil. Das
  Theater im Kurhaus verbindet Bühnenunterhaltung mit regionaler Küche un
 d dem namensgebenden Äppelwoi.
GEO:50.227392;8.617012
LAST-MODIFIED:20260418T193515Z
LOCATION:Deutsches Äppelwoi-Theater\, Louisenstraße 58\, 61348\, Bad Hom
 burg vor der Höhe
STATUS:CONFIRMED
URL:https://kulvio.de/event/2418
END:VEVENT
END:VCALENDAR
