BEGIN:VCALENDAR
VERSION:2.0
PRODID:-//Kulvio Event Calendar//kulvio.de//
CALSCALE:GREGORIAN
METHOD:PUBLISH
BEGIN:VEVENT
SUMMARY:Kammerkonzert mit dem Ardinghello Ensemble
DTSTART:20260419T140000Z
DTEND:20260419T150000Z
DTSTAMP:20260419T235652Z
UID:kulvio-event-2419@kulvio.de
CATEGORIES:Konzert
CREATED:20260418T193557Z
DESCRIPTION:Das Ardinghello Ensemble gastiert in der Trinkkuranlage Bad Na
 uheim mit einem Kammerkonzert am Nachmittag. Das Ensemble widmet sich der 
 Interpretation klassischer Kammermusik und bietet den Zuhörern einen musi
 kalischen Nachmittag im historischen Ambiente der Jugendstil-Anlage. Der K
 onzertsaal der Trinkkuranlage ist für seine besondere Akustik und die sti
 lvolle Atmosphäre bekannt.
GEO:50.362926;8.741975
LAST-MODIFIED:20260418T193702Z
LOCATION:Trinkkuranlage Bad Nauheim\, Ernst-Ludwig-Ring 1\, 61231\, Bad Na
 uheim
STATUS:CONFIRMED
URL:https://kulvio.de/event/2419
END:VEVENT
END:VCALENDAR
