BEGIN:VCALENDAR
VERSION:2.0
PRODID:-//Kulvio Event Calendar//kulvio.de//
CALSCALE:GREGORIAN
METHOD:PUBLISH
BEGIN:VEVENT
SUMMARY:Vortrag: Das osmanische Reich
DTSTART:20260420T173000Z
DTEND:20260420T183000Z
DTSTAMP:20260419T233424Z
UID:kulvio-event-2420@kulvio.de
CATEGORIES:Vortrag
CREATED:20260418T193558Z
DESCRIPTION:Prof. Dr. Alexander Schunka hält in der Trinkkuranlage Bad Na
 uheim einen Vortrag über das osmanische Reich. Der Abend ist Teil einer V
 ortragsreihe zu historischen Weltreichen und bietet fundierte Einblicke in
  die Geschichte und Kultur des Osmanischen Reiches. Die Veranstaltung find
 et im Saal der Trinkkuranlage statt und richtet sich an alle Geschichtsint
 eressierten.
GEO:50.362926;8.741975
LAST-MODIFIED:20260418T193702Z
LOCATION:Trinkkuranlage Bad Nauheim\, Ernst-Ludwig-Ring 1\, 61231\, Bad Na
 uheim
STATUS:CONFIRMED
URL:https://kulvio.de/event/2420
END:VEVENT
END:VCALENDAR
