BEGIN:VCALENDAR
VERSION:2.0
PRODID:-//Kulvio Event Calendar//kulvio.de//
CALSCALE:GREGORIAN
METHOD:PUBLISH
BEGIN:VEVENT
SUMMARY:Lennart Schilgen - Abwesenheitsnotizen
DTSTART:20260422T180000Z
DTEND:20260422T190000Z
DTSTAMP:20260419T232049Z
UID:kulvio-event-2421@kulvio.de
CATEGORIES:Comedy,Kabarett
CREATED:20260418T193558Z
DESCRIPTION:Kabarettist Lennart Schilgen präsentiert sein Programm Abwese
 nheitsnotizen in der Trinkkuranlage Bad Nauheim. Mit scharfem Witz und fei
 ner Beobachtungsgabe nimmt er den Alltag und gesellschaftliche Phänomene 
 aufs Korn. Die Veranstaltung findet im Saal der historischen Trinkkuranlag
 e statt und bietet einen unterhaltsamen Comedy-Abend in besonderem Ambient
 e.
GEO:50.362926;8.741975
LAST-MODIFIED:20260418T193702Z
LOCATION:Trinkkuranlage Bad Nauheim\, Ernst-Ludwig-Ring 1\, 61231\, Bad Na
 uheim
STATUS:CONFIRMED
URL:https://kulvio.de/event/2421
END:VEVENT
END:VCALENDAR
