BEGIN:VCALENDAR
VERSION:2.0
PRODID:-//Kulvio Event Calendar//kulvio.de//
CALSCALE:GREGORIAN
METHOD:PUBLISH
BEGIN:VEVENT
SUMMARY:Vocalicious - Nothing but voices
DTSTART:20260424T173000Z
DTEND:20260424T183000Z
DTSTAMP:20260419T232817Z
UID:kulvio-event-2422@kulvio.de
CATEGORIES:Konzert
CREATED:20260418T193558Z
DESCRIPTION:Das A-Cappella-Ensemble Vocalicious tritt in der Trinkkuranlag
 e Bad Nauheim auf und begeistert das Publikum mit purer Stimmkunst. Ganz o
 hne Instrumente entsteht ein vielschichtiger Klangteppich aus Harmonien\, 
 Rhythmen und Melodien. Der Eintritt ist frei. Die Veranstaltung findet im 
 Rahmen der Kurkonzerte in der historischen Trinkkuranlage am Ernst-Ludwig-
 Ring statt.
GEO:50.362926;8.741975
LAST-MODIFIED:20260418T193702Z
LOCATION:Trinkkuranlage Bad Nauheim\, Ernst-Ludwig-Ring 1\, 61231\, Bad Na
 uheim
STATUS:CONFIRMED
URL:https://kulvio.de/event/2422
END:VEVENT
END:VCALENDAR
