BEGIN:VCALENDAR
VERSION:2.0
PRODID:-//Kulvio Event Calendar//kulvio.de//
CALSCALE:GREGORIAN
METHOD:PUBLISH
BEGIN:VEVENT
SUMMARY:Saitenzauber - Gitarrenduo aus der Wetterau
DTSTART:20260425T140000Z
DTEND:20260425T150000Z
DTSTAMP:20260419T235656Z
UID:kulvio-event-2423@kulvio.de
CATEGORIES:Konzert
CREATED:20260418T193558Z
DESCRIPTION:Ein Gitarrenduo aus der Wetterau präsentiert unter dem Titel 
 Saitenzauber ein Nachmittagskonzert in der Trinkkuranlage Bad Nauheim. Die
  beiden Gitarristen spielen ein abwechslungsreiches Programm aus Klassik\,
  Latin und Folk. Der Eintritt ist frei. Das Konzert findet in der Muschel 
 der Trinkkuranlage statt und lädt zum entspannten Zuhören am Samstagnach
 mittag ein.
GEO:50.362926;8.741975
LAST-MODIFIED:20260418T193702Z
LOCATION:Trinkkuranlage Bad Nauheim\, Ernst-Ludwig-Ring 1\, 61231\, Bad Na
 uheim
STATUS:CONFIRMED
URL:https://kulvio.de/event/2423
END:VEVENT
END:VCALENDAR
