BEGIN:VCALENDAR
VERSION:2.0
PRODID:-//Kulvio Event Calendar//kulvio.de//
CALSCALE:GREGORIAN
METHOD:PUBLISH
BEGIN:VEVENT
SUMMARY:Die Bremer Stadtmusikanten - Kindertheater
DTSTART:20260427T133000Z
DTEND:20260427T143000Z
DTSTAMP:20260419T233415Z
UID:kulvio-event-2424@kulvio.de
CATEGORIES:Kindertheater
CREATED:20260418T193558Z
DESCRIPTION:Beatrice Hutter bringt das Märchen Die Bremer Stadtmusikanten
  auf die Bühne der Trinkkuranlage Bad Nauheim. Das liebevoll inszenierte 
 Kindertheater erzählt die Geschichte von Esel\, Hund\, Katze und Hahn auf
  ihrem Weg nach Bremen. Die Vorstellung ist geeignet für Kinder ab vier J
 ahren und bietet auch den erwachsenen Begleitern einen vergnüglichen Nach
 mittag.
GEO:50.362926;8.741975
LAST-MODIFIED:20260418T193702Z
LOCATION:Trinkkuranlage Bad Nauheim\, Ernst-Ludwig-Ring 1\, 61231\, Bad Na
 uheim
STATUS:CONFIRMED
URL:https://kulvio.de/event/2424
END:VEVENT
END:VCALENDAR
