BEGIN:VCALENDAR
VERSION:2.0
PRODID:-//Kulvio Event Calendar//kulvio.de//
CALSCALE:GREGORIAN
METHOD:PUBLISH
BEGIN:VEVENT
SUMMARY:Vortrag: Das Wasserwerk am Großen Teich
DTSTART:20260430T173000Z
DTEND:20260430T183000Z
DTSTAMP:20260419T232049Z
UID:kulvio-event-2425@kulvio.de
CATEGORIES:Vortrag,Geschichte
CREATED:20260418T193558Z
DESCRIPTION:Alexander Jung präsentiert in der Trinkkuranlage Bad Nauheim 
 einen Vortrag über die Geschichte und Bedeutung des Wasserwerks am Große
 n Teich. Der Vortrag beleuchtet die technische und historische Entwicklung
  der Wasserversorgung in Bad Nauheim und ist Teil einer Reihe lokaler Gesc
 hichtsvorträge. Die Veranstaltung richtet sich an alle\, die sich für di
 e Stadtgeschichte Bad Nauheims interessieren.
GEO:50.362926;8.741975
LAST-MODIFIED:20260418T193702Z
LOCATION:Trinkkuranlage Bad Nauheim\, Ernst-Ludwig-Ring 1\, 61231\, Bad Na
 uheim
STATUS:CONFIRMED
URL:https://kulvio.de/event/2425
END:VEVENT
END:VCALENDAR
