BEGIN:VCALENDAR
VERSION:2.0
PRODID:-//Kulvio Event Calendar//kulvio.de//
CALSCALE:GREGORIAN
METHOD:PUBLISH
BEGIN:VEVENT
SUMMARY:Wellen im Bauch - Konzert am Maifeiertag
DTSTART:20260501T173000Z
DTEND:20260501T183000Z
DTSTAMP:20260419T233424Z
UID:kulvio-event-2426@kulvio.de
CATEGORIES:Konzert
CREATED:20260418T193558Z
DESCRIPTION:Das Trio Kind\, Wögler und Walke spielt am Maifeiertag in der
  Trinkkuranlage Bad Nauheim. Unter dem Titel Wellen im Bauch bieten die dr
 ei Musiker ein Konzert\, das verschiedene Stilrichtungen verbindet und fü
 r einen stimmungsvollen Feiertagsabend sorgt. Der Eintritt ist frei. Die V
 eranstaltung findet im Rahmen der Kurkonzerte statt.
GEO:50.362926;8.741975
LAST-MODIFIED:20260418T193702Z
LOCATION:Trinkkuranlage Bad Nauheim\, Ernst-Ludwig-Ring 1\, 61231\, Bad Na
 uheim
STATUS:CONFIRMED
URL:https://kulvio.de/event/2426
END:VEVENT
END:VCALENDAR
