BEGIN:VCALENDAR
VERSION:2.0
PRODID:-//Kulvio Event Calendar//kulvio.de//
CALSCALE:GREGORIAN
METHOD:PUBLISH
BEGIN:VEVENT
SUMMARY:Von Barock bis Romantik - Klavierkonzert mit R. Mani
DTSTART:20260502T140000Z
DTEND:20260502T150000Z
DTSTAMP:20260419T233421Z
UID:kulvio-event-2427@kulvio.de
CATEGORIES:Konzert
CREATED:20260418T193558Z
DESCRIPTION:Der Pianist R. Mani spielt in der Trinkkuranlage Bad Nauheim W
 erke aus der Epoche des Barock bis zur Romantik. Das Nachmittagskonzert bi
 etet einen Querschnitt durch die bedeutendsten Epochen der Klavierliteratu
 r in der besonderen Akustik der historischen Trinkkuranlage. Der Eintritt 
 ist frei. Das Konzert findet im Rahmen der Kurkonzertreihe statt.
GEO:50.362926;8.741975
LAST-MODIFIED:20260418T193702Z
LOCATION:Trinkkuranlage Bad Nauheim\, Ernst-Ludwig-Ring 1\, 61231\, Bad Na
 uheim
STATUS:CONFIRMED
URL:https://kulvio.de/event/2427
END:VEVENT
END:VCALENDAR
