BEGIN:VCALENDAR
VERSION:2.0
PRODID:-//Kulvio Event Calendar//kulvio.de//
CALSCALE:GREGORIAN
METHOD:PUBLISH
BEGIN:VEVENT
SUMMARY:Im Prater blühen wieder die Bäume - Heurigen Musi
DTSTART:20260503T140000Z
DTEND:20260503T150000Z
DTSTAMP:20260419T232823Z
UID:kulvio-event-2428@kulvio.de
CATEGORIES:Konzert
CREATED:20260418T193558Z
DESCRIPTION:Die Heurigen Musi entführt das Publikum in der Trinkkuranlage
  Bad Nauheim nach Wien. Unter dem Titel Im Prater blühen wieder die Bäum
 e erklingen Wiener Lieder\, Walzer und Schrammelmusik\, die an die Heurige
 nkultur der österreichischen Hauptstadt erinnern. Der Eintritt ist frei. 
 Das Konzert findet am Sonntagnachmittag in der Muschel der Trinkkuranlage 
 statt.
GEO:50.362926;8.741975
LAST-MODIFIED:20260418T193702Z
LOCATION:Trinkkuranlage Bad Nauheim\, Ernst-Ludwig-Ring 1\, 61231\, Bad Na
 uheim
STATUS:CONFIRMED
URL:https://kulvio.de/event/2428
END:VEVENT
END:VCALENDAR
