BEGIN:VCALENDAR
VERSION:2.0
PRODID:-//Kulvio Event Calendar//kulvio.de//
CALSCALE:GREGORIAN
METHOD:PUBLISH
BEGIN:VEVENT
SUMMARY:Marla Moya - Sanguine Soul Tour
DTSTART:20260508T173000Z
DTEND:20260508T183000Z
DTSTAMP:20260419T235656Z
UID:kulvio-event-2429@kulvio.de
CATEGORIES:Konzert
CREATED:20260418T193558Z
DESCRIPTION:Sängerin Marla Moya macht auf ihrer Sanguine Soul Tour Statio
 n in der Trinkkuranlage Bad Nauheim. Mit ihrer ausdrucksstarken Stimme ver
 bindet sie Soul\, Pop und Jazz zu einem eigenständigen Sound. Der Eintrit
 t ist frei. Das Konzert findet im Rahmen der Kurkonzertreihe in der histor
 ischen Trinkkuranlage am Ernst-Ludwig-Ring statt.
GEO:50.362926;8.741975
LAST-MODIFIED:20260418T193702Z
LOCATION:Trinkkuranlage Bad Nauheim\, Ernst-Ludwig-Ring 1\, 61231\, Bad Na
 uheim
STATUS:CONFIRMED
URL:https://kulvio.de/event/2429
END:VEVENT
END:VCALENDAR
