BEGIN:VCALENDAR
VERSION:2.0
PRODID:-//Kulvio Event Calendar//kulvio.de//
CALSCALE:GREGORIAN
METHOD:PUBLISH
BEGIN:VEVENT
SUMMARY:Jazz influenced groove music - Nachttierhaus
DTSTART:20260515T173000Z
DTEND:20260515T183000Z
DTSTAMP:20260419T233112Z
UID:kulvio-event-2430@kulvio.de
CATEGORIES:Konzert
CREATED:20260418T193558Z
DESCRIPTION:Die Band Nachttierhaus bringt jazz-beeinflusste Groovemusik in
  die Trinkkuranlage Bad Nauheim. Die Formation verbindet Jazz-Harmonien mi
 t treibenden Grooves und schafft eine Klanglandschaft zwischen Improvisati
 on und Songwriting. Der Eintritt ist frei. Das Freitagskonzert findet im R
 ahmen der Kurkonzertreihe in der Trinkkuranlage statt.
GEO:50.362926;8.741975
LAST-MODIFIED:20260418T193702Z
LOCATION:Trinkkuranlage Bad Nauheim\, Ernst-Ludwig-Ring 1\, 61231\, Bad Na
 uheim
STATUS:CONFIRMED
URL:https://kulvio.de/event/2430
END:VEVENT
END:VCALENDAR
