BEGIN:VCALENDAR
VERSION:2.0
PRODID:-//Kulvio Event Calendar//kulvio.de//
CALSCALE:GREGORIAN
METHOD:PUBLISH
BEGIN:VEVENT
SUMMARY:A cool wind is blowing - Trobadors
DTSTART:20260516T140000Z
DTEND:20260516T150000Z
DTSTAMP:20260419T233416Z
UID:kulvio-event-2431@kulvio.de
CATEGORIES:Konzert
CREATED:20260418T193558Z
DESCRIPTION:Die Trobadors spielen unter dem Titel A cool wind is blowing e
 in Nachmittagskonzert in der Trinkkuranlage Bad Nauheim. Das Repertoire um
 fasst Folksongs\, Balladen und akustische Musik für einen entspannten Sam
 stagnachmittag. Der Eintritt ist frei. Bei gutem Wetter findet das Konzert
  in der Konzertmuschel im Freien statt.
GEO:50.362926;8.741975
LAST-MODIFIED:20260418T193702Z
LOCATION:Trinkkuranlage Bad Nauheim\, Ernst-Ludwig-Ring 1\, 61231\, Bad Na
 uheim
STATUS:CONFIRMED
URL:https://kulvio.de/event/2431
END:VEVENT
END:VCALENDAR
