BEGIN:VCALENDAR
VERSION:2.0
PRODID:-//Kulvio Event Calendar//kulvio.de//
CALSCALE:GREGORIAN
METHOD:PUBLISH
BEGIN:VEVENT
SUMMARY:Viaggio in Paradiso - Kammerkonzert mit dem Wala Trio
DTSTART:20260517T140000Z
DTEND:20260517T150000Z
DTSTAMP:20260419T232817Z
UID:kulvio-event-2432@kulvio.de
CATEGORIES:Konzert
CREATED:20260418T193558Z
DESCRIPTION:Das Wala Trio nimmt das Publikum in der Trinkkuranlage Bad Nau
 heim mit auf eine musikalische Reise ins Paradies. Unter dem Titel Viaggio
  in Paradiso erklingen Kammermusikwerke in der besonderen Akustik des Gro
 ßen Saals der historischen Trinkkuranlage. Das Konzert bietet einen festl
 ichen Sonntagsnachmittag mit anspruchsvoller Musik in stilvollem Ambiente.
GEO:50.362926;8.741975
LAST-MODIFIED:20260418T193702Z
LOCATION:Trinkkuranlage Bad Nauheim\, Ernst-Ludwig-Ring 1\, 61231\, Bad Na
 uheim
STATUS:CONFIRMED
URL:https://kulvio.de/event/2432
END:VEVENT
END:VCALENDAR
