BEGIN:VCALENDAR
VERSION:2.0
PRODID:-//Kulvio Event Calendar//kulvio.de//
CALSCALE:GREGORIAN
METHOD:PUBLISH
BEGIN:VEVENT
SUMMARY:GUDE LEUDE? - GUDE SHOW!
DTSTART:20260520T180000Z
DTEND:20260520T190000Z
DTSTAMP:20260419T232817Z
UID:kulvio-event-2433@kulvio.de
CATEGORIES:Comedy
CREATED:20260418T193558Z
DESCRIPTION:Die Comedy-Truppe GUDE LEUDE bringt ihre Show in die Trinkkura
 nlage Bad Nauheim. Mit hessischem Humor\, pointierten Sketchen und spontan
 en Einlagen sorgen die Comedians für einen lachreichen Abend. Die Show ve
 rbindet Stand-Up-Elemente mit improvisierten Szenen und richtet sich an al
 le\, die gute Unterhaltung in lockerer Atmosphäre schätzen.
GEO:50.362926;8.741975
LAST-MODIFIED:20260418T193702Z
LOCATION:Trinkkuranlage Bad Nauheim\, Ernst-Ludwig-Ring 1\, 61231\, Bad Na
 uheim
STATUS:CONFIRMED
URL:https://kulvio.de/event/2433
END:VEVENT
END:VCALENDAR
