BEGIN:VCALENDAR
VERSION:2.0
PRODID:-//Kulvio Event Calendar//kulvio.de//
CALSCALE:GREGORIAN
METHOD:PUBLISH
BEGIN:VEVENT
SUMMARY:25 Jahre Saxism - Jubiläumskonzert
DTSTART:20260419T160000Z
DTEND:20260419T180000Z
DTSTAMP:20260419T233245Z
UID:kulvio-event-2434@kulvio.de
CATEGORIES:Konzert
CREATED:20260418T193936Z
DESCRIPTION:Das Saxophonquartett Saxism feiert sein 25-jähriges Bestehen 
 mit einem Konzert in der Wendelinskapelle Butzbach. Das Programm umfasst e
 in Best-of aus 25 Jahren mit Stücken aus Klassik\, Jazz\, Musical\, Pop u
 nd Klezmer. Karten kosten 14 Euro\, ermäßigt 7 Euro für Kinder und Juge
 ndliche. Musikschüler der Stadt Butzbach unter 18 Jahren haben freien Ein
 tritt.
GEO:50.430922;8.670695
LAST-MODIFIED:20260418T194036Z
LOCATION:Wendelinskapelle Butzbach\, Weiseler Str. 45\, 35510\, Butzbach
STATUS:CONFIRMED
URL:https://kulvio.de/event/2434
END:VEVENT
END:VCALENDAR
