BEGIN:VCALENDAR
VERSION:2.0
PRODID:-//Kulvio Event Calendar//kulvio.de//
CALSCALE:GREGORIAN
METHOD:PUBLISH
BEGIN:VEVENT
SUMMARY:Figurentheater: Meister Eder und sein Pumuckl
DTSTART:20260423T140000Z
DTEND:20260423T150000Z
DTSTAMP:20260419T233129Z
UID:kulvio-event-2435@kulvio.de
CATEGORIES:Kindertheater,Familienausflug
CREATED:20260418T193936Z
DESCRIPTION:Das Figurentheater bringt die Geschichte von Meister Eder und 
 seinem Pumuckl auf die Bühne des Bürgerhauses Butzbach. Die Inszenierung
  zeigt\, wie der Schreinermeister den frechen Kobold entdeckt\, der an sei
 nem Leimtopf kleben geblieben ist. Die Vorstellung dauert 50 Minuten und i
 st für Kinder ab drei Jahren geeignet. Karten gibt es für 10 Euro an der
  Tageskasse\, die 30 Minuten vor Vorstellungsbeginn öffnet.
GEO:50.433223;8.665947
LAST-MODIFIED:20260418T194036Z
LOCATION:Bürgerhaus Butzbach\, Gutenbergstraße 16\, 35510\, Butzbach
STATUS:CONFIRMED
URL:https://kulvio.de/event/2435
END:VEVENT
END:VCALENDAR
