BEGIN:VCALENDAR
VERSION:2.0
PRODID:-//Kulvio Event Calendar//kulvio.de//
CALSCALE:GREGORIAN
METHOD:PUBLISH
BEGIN:VEVENT
SUMMARY:Tanz in den Mai in Butzbach-Wiesental
DTSTART:20260430T160000Z
DTEND:20260430T170000Z
DTSTAMP:20260419T233244Z
UID:kulvio-event-2436@kulvio.de
CATEGORIES:Tradition,Stadtfest
CREATED:20260418T193936Z
DESCRIPTION:Am Vorabend des 1. Mai findet in Butzbach-Wiesental der tradit
 ionelle Tanz in den Mai statt. Ab 18 Uhr sorgen die Kapelle der Feuerwehr 
 Butzbach und der Musikzug Oberkleen für Live-Musik. Am Grill gibt es Brat
 wurst\, Hähnchenspieße und Grillkäse\, dazu Wein\, Maibowle\, Bier und 
 alkoholfreie Getränke. Die Veranstaltung wird von der Freiwilligen Feuerw
 ehr Wiesental ausgerichtet.
GEO:50.380024;8.612902
LAST-MODIFIED:20260418T194036Z
LOCATION:Josef-Singer-Weg 2\, 35510\, Butzbach
STATUS:CONFIRMED
URL:https://kulvio.de/event/2436
END:VEVENT
END:VCALENDAR
