BEGIN:VCALENDAR
VERSION:2.0
PRODID:-//Kulvio Event Calendar//kulvio.de//
CALSCALE:GREGORIAN
METHOD:PUBLISH
BEGIN:VEVENT
SUMMARY:75 Jahre Freiwillige Feuerwehr Wiesental - Maifest
DTSTART:20260501T080000Z
DTEND:20260501T143000Z
DTSTAMP:20260419T232046Z
UID:kulvio-event-2437@kulvio.de
CATEGORIES:Stadtfest,Familienausflug,Tradition
CREATED:20260418T193936Z
DESCRIPTION:Die Freiwillige Feuerwehr Wiesental feiert ihr 75-jähriges Be
 stehen mit einem Maifest am 1. Mai. Ab 10 Uhr gibt es einen Frühschoppen 
 mit Weißwurstfrühstück und Fassanstich\, begleitet von der Kapelle der 
 Feuerwehr Butzbach. Gitarrist NENAD aus Königstein lädt zum Mitsingen vo
 n Hits der 70er und 80er Jahre ein. Für Essen und Trinken ist den ganzen 
 Tag gesorgt.
GEO:50.380024;8.612902
LAST-MODIFIED:20260418T194036Z
LOCATION:Josef-Singer-Weg 2\, 35510\, Butzbach
STATUS:CONFIRMED
URL:https://kulvio.de/event/2437
END:VEVENT
END:VCALENDAR
