BEGIN:VCALENDAR
VERSION:2.0
PRODID:-//Kulvio Event Calendar//kulvio.de//
CALSCALE:GREGORIAN
METHOD:PUBLISH
BEGIN:VEVENT
SUMMARY:Musical: Weidig - Aus freien Stücken (Donnerstag)
DTSTART:20260507T170000Z
DTEND:20260507T180000Z
DTSTAMP:20260419T235653Z
UID:kulvio-event-2438@kulvio.de
CATEGORIES:Musical
CREATED:20260418T193936Z
DESCRIPTION:Der Verein Musical Butzbach bringt das Musical Weidig - Aus fr
 eien Stücken auf die Bühne des Bürgerhauses Butzbach. Das Stück erzäh
 lt die Geschichte des Theologen und Pädagogen Friedrich Ludwig Weidig\, d
 er als Freiheitskämpfer im Vormärz bekannt wurde. Drehbuch\, Choreografi
 e und Musik stammen von ehemaligen Schülern der Weidigschule. Die Produkt
 ion war 2020 durch die Pandemie gestoppt worden und wird nun neu inszenier
 t.
GEO:50.433223;8.665947
LAST-MODIFIED:20260418T194036Z
LOCATION:Bürgerhaus Butzbach\, Gutenbergstraße 16\, 35510\, Butzbach
STATUS:CONFIRMED
URL:https://kulvio.de/event/2438
END:VEVENT
END:VCALENDAR
