BEGIN:VCALENDAR
VERSION:2.0
PRODID:-//Kulvio Event Calendar//kulvio.de//
CALSCALE:GREGORIAN
METHOD:PUBLISH
BEGIN:VEVENT
SUMMARY:Musical: Weidig - Aus freien Stücken (Sonntag-Matinee)
DTSTART:20260510T120000Z
DTEND:20260510T130000Z
DTSTAMP:20260419T232630Z
UID:kulvio-event-2441@kulvio.de
CATEGORIES:Musical
CREATED:20260418T193936Z
DESCRIPTION:Der Verein Musical Butzbach bringt das Musical Weidig - Aus fr
 eien Stücken als Sonntags-Matinee auf die Bühne des Bürgerhauses Butzba
 ch. Das Stück erzählt die Geschichte des Theologen und Pädagogen Friedr
 ich Ludwig Weidig\, der als Freiheitskämpfer im Vormärz bekannt wurde. D
 rehbuch\, Choreografie und Musik stammen von ehemaligen Schülern der Weid
 igschule. Die Nachmittagsvorstellung beginnt um 14 Uhr.
GEO:50.433223;8.665947
LAST-MODIFIED:20260418T194036Z
LOCATION:Bürgerhaus Butzbach\, Gutenbergstraße 16\, 35510\, Butzbach
STATUS:CONFIRMED
URL:https://kulvio.de/event/2441
END:VEVENT
END:VCALENDAR
