BEGIN:VCALENDAR
VERSION:2.0
PRODID:-//Kulvio Event Calendar//kulvio.de//
CALSCALE:GREGORIAN
METHOD:PUBLISH
BEGIN:VEVENT
SUMMARY:Demokratiefest zum Tag des Grundgesetzes
DTSTART:20260523T090000Z
DTEND:20260523T130000Z
DTSTAMP:20260419T233431Z
UID:kulvio-event-2442@kulvio.de
CATEGORIES:Stadtfest
CREATED:20260418T193936Z
DESCRIPTION:Im Schlosspark Butzbach findet am Tag des Grundgesetzes ein De
 mokratiefest statt. Die Veranstaltung bietet Mitmachaktionen und Spiele f
 ür alle Altersgruppen rund um die Themen Demokratie und Grundrechte. Der 
 Eintritt ist frei. Das Fest findet im Park des Landgrafenschlosses statt u
 nd läuft von 11 bis 15 Uhr.
GEO:50.433177;8.675164
LAST-MODIFIED:20260418T194036Z
LOCATION:Landgrafenschloss Butzbach\, Schlossplatz 1\, 35510\, Butzbach
STATUS:CONFIRMED
URL:https://kulvio.de/event/2442
END:VEVENT
END:VCALENDAR
