BEGIN:VCALENDAR
VERSION:2.0
PRODID:-//Kulvio Event Calendar//kulvio.de//
CALSCALE:GREGORIAN
METHOD:PUBLISH
BEGIN:VEVENT
SUMMARY:Deutsch-Italienisches Fest (Freitag)
DTSTART:20260529T150000Z
DTEND:20260529T210000Z
DTSTAMP:20260419T235652Z
UID:kulvio-event-2443@kulvio.de
CATEGORIES:Food-Festival,Stadtfest
CREATED:20260418T193936Z
DESCRIPTION:Auf dem Marktplatz in Butzbach findet das Deutsch-Italienische
  Fest statt. Die Veranstaltung verbindet deutsche und italienische Küche 
 mit mediterraner und deutscher Live-Musik. Besucher erwartet ein vielfält
 iges Angebot an Speisen und Getränken aus beiden Ländern. Das Fest erstr
 eckt sich über zwei Tage und ist eine feste Tradition im Butzbacher Veran
 staltungskalender.
GEO:50.434036;8.672063
LAST-MODIFIED:20260418T194036Z
LOCATION:Marktplatz\, 35510\, Butzbach
STATUS:CONFIRMED
URL:https://kulvio.de/event/2443
END:VEVENT
END:VCALENDAR
