BEGIN:VCALENDAR
VERSION:2.0
PRODID:-//Kulvio Event Calendar//kulvio.de//
CALSCALE:GREGORIAN
METHOD:PUBLISH
BEGIN:VEVENT
SUMMARY:Deutsch-Italienisches Fest (Samstag)
DTSTART:20260530T100000Z
DTEND:20260530T210000Z
DTSTAMP:20260419T232630Z
UID:kulvio-event-2444@kulvio.de
CATEGORIES:Food-Festival,Stadtfest
CREATED:20260418T193936Z
DESCRIPTION:Auf dem Marktplatz in Butzbach geht das Deutsch-Italienische F
 est in den zweiten Tag. Die Veranstaltung verbindet deutsche und italienis
 che Küche mit mediterraner und deutscher Live-Musik. Besucher erwartet ei
 n vielfältiges Angebot an Speisen und Getränken aus beiden Ländern. Das
  Fest erstreckt sich über zwei Tage und ist eine feste Tradition im Butzb
 acher Veranstaltungskalender.
GEO:50.434036;8.672063
LAST-MODIFIED:20260418T194036Z
LOCATION:Marktplatz\, 35510\, Butzbach
STATUS:CONFIRMED
URL:https://kulvio.de/event/2444
END:VEVENT
END:VCALENDAR
