BEGIN:VCALENDAR
VERSION:2.0
PRODID:-//Kulvio Event Calendar//kulvio.de//
CALSCALE:GREGORIAN
METHOD:PUBLISH
BEGIN:VEVENT
SUMMARY:Schlager und Spaß mit Andy Borg und Gästen
DTSTART:20260428T160000Z
DTEND:20260428T170000Z
DTSTAMP:20260419T232631Z
UID:kulvio-event-2445@kulvio.de
CATEGORIES:Konzert
CREATED:20260418T194626Z
DESCRIPTION:Andy Borg kommt mit seiner Show Schlager und Spaß in die Stad
 thalle Friedberg. Der beliebte Schlagersänger und Moderator bringt eine g
 eballte Ladung Schlager und gute Stimmung auf die Bühne\, begleitet von w
 eiteren Gästen. Die Veranstaltung beginnt um 18 Uhr und verspricht einen 
 schwungvollen Abend mit bekannten Schlagerhits und charmanter Moderation.
GEO:50.334489;8.745469
LAST-MODIFIED:20260418T194728Z
LOCATION:Stadthalle Friedberg\, Am Seebach 2\, 61169\, Friedberg (Hessen)
STATUS:CONFIRMED
URL:https://kulvio.de/event/2445
END:VEVENT
END:VCALENDAR
