BEGIN:VCALENDAR
VERSION:2.0
PRODID:-//Kulvio Event Calendar//kulvio.de//
CALSCALE:GREGORIAN
METHOD:PUBLISH
BEGIN:VEVENT
SUMMARY:Siggi Schwarz und Band feat. Andreas Kümmert - Rock und Soul Ever
 greens
DTSTART:20260502T180000Z
DTEND:20260502T190000Z
DTSTAMP:20260419T233121Z
UID:kulvio-event-2446@kulvio.de
CATEGORIES:Konzert
CREATED:20260418T194626Z
DESCRIPTION:Gitarrenlegende Siggi Schwarz und Sänger Andreas Kümmert tre
 ten gemeinsam mit Band in der Stadthalle Friedberg auf. Das Konzert bietet
  Rock- und Soul-Klassiker in neuer Interpretation\, verbunden durch die vi
 rtuose Gitarrenarbeit von Schwarz und die markante Stimme von Kümmert. De
 r Abend beginnt um 20 Uhr und richtet sich an Fans handgemachter Rockmusik
 .
GEO:50.334489;8.745469
LAST-MODIFIED:20260418T194728Z
LOCATION:Stadthalle Friedberg\, Am Seebach 2\, 61169\, Friedberg (Hessen)
STATUS:CONFIRMED
URL:https://kulvio.de/event/2446
END:VEVENT
END:VCALENDAR
