BEGIN:VCALENDAR
VERSION:2.0
PRODID:-//Kulvio Event Calendar//kulvio.de//
CALSCALE:GREGORIAN
METHOD:PUBLISH
BEGIN:VEVENT
SUMMARY:Golden Ace - Die Magier: Zirkel der Magie Tour
DTSTART:20260509T170000Z
DTEND:20260509T180000Z
DTSTAMP:20260419T233132Z
UID:kulvio-event-2447@kulvio.de
CATEGORIES:Show
CREATED:20260418T194627Z
DESCRIPTION:Das Magier-Duo Golden Ace präsentiert seine Bühnenshow Zirke
 l der Magie in der Stadthalle Friedberg. Die Zuschauer erleben eine Mischu
 ng aus großen Illusionen\, Mentalmagie und Comedy in einer durchgehenden 
 Show mit professioneller Inszenierung. Die Vorstellung beginnt um 19 Uhr u
 nd ist für die ganze Familie geeignet.
GEO:50.334489;8.745469
LAST-MODIFIED:20260418T194728Z
LOCATION:Stadthalle Friedberg\, Am Seebach 2\, 61169\, Friedberg (Hessen)
STATUS:CONFIRMED
URL:https://kulvio.de/event/2447
END:VEVENT
END:VCALENDAR
