BEGIN:VCALENDAR
VERSION:2.0
PRODID:-//Kulvio Event Calendar//kulvio.de//
CALSCALE:GREGORIAN
METHOD:PUBLISH
BEGIN:VEVENT
SUMMARY:Kalter weißer Mann - Eine Gender-Diskussion
DTSTART:20260512T180000Z
DTEND:20260512T190000Z
DTSTAMP:20260419T233126Z
UID:kulvio-event-2448@kulvio.de
CATEGORIES:Comedy,Theater
CREATED:20260418T194627Z
DESCRIPTION:Die Komödie Kalter weißer Mann von Dietmar Jacobs und Moritz
  Netenjakob gastiert in der Stadthalle Friedberg. Das Stück nimmt aktuell
 e Gender-Debatten und politische Korrektheit humorvoll aufs Korn und liefe
 rt einen unterhaltsamen Theaterabend mit scharfem Witz. Der Eintritt ist f
 rei. Die Vorstellung beginnt um 20 Uhr.
GEO:50.334489;8.745469
LAST-MODIFIED:20260418T194728Z
LOCATION:Stadthalle Friedberg\, Am Seebach 2\, 61169\, Friedberg (Hessen)
STATUS:CONFIRMED
URL:https://kulvio.de/event/2448
END:VEVENT
END:VCALENDAR
