BEGIN:VCALENDAR
VERSION:2.0
PRODID:-//Kulvio Event Calendar//kulvio.de//
CALSCALE:GREGORIAN
METHOD:PUBLISH
BEGIN:VEVENT
SUMMARY:Be-Flügelt Tour 2026 - Andreas Güstel und Julian Eilenberger
DTSTART:20260527T173000Z
DTEND:20260527T183000Z
DTSTAMP:20260419T232046Z
UID:kulvio-event-2449@kulvio.de
CATEGORIES:Konzert
CREATED:20260418T194627Z
DESCRIPTION:Das Pianisten-Duo Andreas Güstel und Julian Eilenberger kommt
  mit ihrer Be-Flügelt Tour in die Stadthalle Friedberg. Die beiden Musike
 r verbinden virtuoses Klavierspiel mit Geschichten und Selbstironie zu ein
 em Konzertabend\, der berührt und unterhält. Die Veranstaltung beginnt u
 m 19:30 Uhr und bietet einen Abend zwischen Klassik\, Pop und Improvisatio
 n.
GEO:50.334489;8.745469
LAST-MODIFIED:20260418T194728Z
LOCATION:Stadthalle Friedberg\, Am Seebach 2\, 61169\, Friedberg (Hessen)
STATUS:CONFIRMED
URL:https://kulvio.de/event/2449
END:VEVENT
END:VCALENDAR
