BEGIN:VCALENDAR
VERSION:2.0
PRODID:-//Kulvio Event Calendar//kulvio.de//
CALSCALE:GREGORIAN
METHOD:PUBLISH
BEGIN:VEVENT
SUMMARY:Frühjahrskonzert der Stadtkapelle Friedberg - Das (Un-)Fassbare
DTSTART:20260530T180000Z
DTEND:20260530T190000Z
DTSTAMP:20260419T233131Z
UID:kulvio-event-2450@kulvio.de
CATEGORIES:Konzert
CREATED:20260418T194627Z
DESCRIPTION:Die Stadtkapelle Friedberg lädt zum Frühjahrskonzert 2026 un
 ter dem Motto Das (Un-)Fassbare in die Stadthalle ein. Das Blasorchester p
 räsentiert ein abwechslungsreiches Programm\, das die Grenzen zwischen de
 m Greifbaren und dem Unbegreiflichen musikalisch auslotet. Die Veranstaltu
 ng beginnt um 20 Uhr und der Eintritt kostet ab 10 Euro.
GEO:50.334489;8.745469
LAST-MODIFIED:20260418T194728Z
LOCATION:Stadthalle Friedberg\, Am Seebach 2\, 61169\, Friedberg (Hessen)
STATUS:CONFIRMED
URL:https://kulvio.de/event/2450
END:VEVENT
END:VCALENDAR
