BEGIN:VCALENDAR
VERSION:2.0
PRODID:-//Kulvio Event Calendar//kulvio.de//
CALSCALE:GREGORIAN
METHOD:PUBLISH
BEGIN:VEVENT
SUMMARY:KellerKabarett: Senay Duzcu
DTSTART:20260422T180000Z
DTEND:20260422T190000Z
DTSTAMP:20260419T233431Z
UID:kulvio-event-2451@kulvio.de
CATEGORIES:Kabarett
CREATED:20260418T194755Z
DESCRIPTION:Die Kabarettistin Senay Duzcu gastiert im Gewölbekeller von G
 arniers Keller in Friedrichsdorf. In ihrem Programm verbindet sie scharfe 
 Beobachtungen aus dem Alltag mit pointiertem Humor und nimmt dabei gesells
 chaftliche Themen aufs Korn. Die Veranstaltung findet in der intimen Atmos
 phäre des historischen Kellergewölbes statt\, das rund sechzig Gästen P
 latz bietet.
GEO:50.258325;8.644146
LAST-MODIFIED:20260418T194848Z
LOCATION:Garniers Keller\, Institut Garnier 1\, 61381\, Friedrichsdorf
STATUS:CONFIRMED
URL:https://kulvio.de/event/2451
END:VEVENT
END:VCALENDAR
