BEGIN:VCALENDAR
VERSION:2.0
PRODID:-//Kulvio Event Calendar//kulvio.de//
CALSCALE:GREGORIAN
METHOD:PUBLISH
BEGIN:VEVENT
SUMMARY:Poetry Slam Friedrichsdorf
DTSTART:20260423T173000Z
DTEND:20260423T183000Z
DTSTAMP:20260419T232047Z
UID:kulvio-event-2452@kulvio.de
CATEGORIES:Open Mic
CREATED:20260418T194755Z
DESCRIPTION:In Garniers Keller in Friedrichsdorf findet ein Poetry Slam st
 att. Künstlerinnen und Künstler tragen selbst geschriebene Texte in maxi
 mal sechs Minuten ohne Hilfsmittel vor\, am Ende entscheidet das Publikum 
 über den Sieger. Der historische Gewölbekeller bietet mit seinen rund se
 chzig Plätzen an Tischen und langen Bänken eine besondere Atmosphäre f
 ür den Wettbewerb.
GEO:50.258325;8.644146
LAST-MODIFIED:20260418T194848Z
LOCATION:Garniers Keller\, Institut Garnier 1\, 61381\, Friedrichsdorf
STATUS:CONFIRMED
URL:https://kulvio.de/event/2452
END:VEVENT
END:VCALENDAR
