BEGIN:VCALENDAR
VERSION:2.0
PRODID:-//Kulvio Event Calendar//kulvio.de//
CALSCALE:GREGORIAN
METHOD:PUBLISH
BEGIN:VEVENT
SUMMARY:Gardi Hutter - gardizero
DTSTART:20260424T180000Z
DTEND:20260424T190000Z
DTSTAMP:20260419T232540Z
UID:kulvio-event-2453@kulvio.de
CATEGORIES:Show,Comedy
CREATED:20260418T194755Z
DESCRIPTION:Die Schweizer Clownin Gardi Hutter bringt ihr Stück gardizero
  auf die Bühne des Forum Friedrichsdorf. In ihrem clownesken Theater verb
 indet sie Slapstick\, Akrobatik und Poesie zu einer wortlosen Show\, die d
 as Publikum ohne Sprache in ihren Bann zieht. Die international bekannte K
 ünstlerin gilt als eine der bedeutendsten Clowninnen der Gegenwart. Die V
 orstellung findet im Kleinen Saal des Forum Friedrichsdorf statt.
GEO:50.275067;8.646412
LAST-MODIFIED:20260418T194848Z
LOCATION:Forum Friedrichsdorf\, Dreieichstraße 22\, 61381\, Friedrichsdor
 f
STATUS:CONFIRMED
URL:https://kulvio.de/event/2453
END:VEVENT
END:VCALENDAR
